BEGIN:VCALENDAR
VERSION:2.0
PRODID:-//ExpressionEngine Easy iCalendar plugin//NONSGML v2.0.1//EN
X-WR-TIMEZONE:America/Chicago
X-WR-CALNAME:Upcoming Auctions
BEGIN:VEVENT
UID:147009
DTSTAMP:20250823T074400
DTSTART:20250823T074400
DTEND:20250828T190000
SUMMARY:Pocket Dragons\, Star Trek\, Restaurant Equipment & More
LOCATION:2773 W Henri de Tonti Blvd\, Tontitown\, AR 72762\, US
DESCRIPTION:Online Only Auction – Collectibles\, Figurines\, Dolls\, and 
 Memorabilia Auction Ends: Thursday\, August 28\, 2025 at 7:00 
 PM Location: 2771 W Henri de Tonti Blvd\, Tontitown\, AR 72762
  This online-only auction features a wide variety of highly 
 collectible and sought-after items\, including signed Pocket 
 Dragons figurines and tins\, Madame Alexander dolls\, and a un
 ique selection of pop culture memorabilia from franchises su
 ch as Star Wars\, Star Trek\, Game of Thrones\, Babylon 5\, and 
 The Lord of the Rings. Highlights include: Pocket Dragons by
  Real Musgrave Multiple signed figurines with original tins 
 and packaging Special editions such as Time for Tea\, Book Lo
 ver\, Trick or Treat\, and Real Magic Complete “12 Years of 
 Christmas” ornament set in wooden display case\, signed Gar
 den Collection figures with original box Collectible tins fe
 aturing whimsical dragon illustrations 1997 Tea Party Collec
 tion: teapot\, mug\, and etched tumblers Madame Alexander Doll
 s Wide assortment of collectible dolls with original boxes a
 nd tags Notable figures include Alice #1552\, Scarlett O’Ha
 ra Series\, Confederate Officer\, McGuffey Ana\, and themed Lad
 y Dolls Many dolls in unused or near-mint condition\, still w
 ith protective packaging Memorabilia & Collectibles Vintage 
 magazines: Royal Reign (LA Kings)\, Mustang Monthly\, Natural 
 Home\, toy and sci-fi collectibles issues Game of Thrones col
 lectibles: Funko Pop! The Wall set\, calendar\, and posters Ba
 bylon 5 action figures\, magazines\, and accessories Lord of t
 he Rings framed movie poster art Star Wars R2-D2 ceramic coo
 kie jar Star Trek collectibles: PS3 video game (sealed)\, boo
 ks\, SkyBox trading cards (sealed)\, plush toy\, signs\, and nov
 elty adhesive bandages Additional Items Rocket Sliders cigar
 ette display stand Assorted collectible bags and totes with 
 Pocket Dragon designs This is a unique opportunity to acquir
 e a large and diverse collection of rare collectibles\, signe
 d pieces\, and pop culture treasures. Many items include orig
 inal boxes\, tags\, and certificates of authenticity\, making t
 hem ideal for both collectors and resellers. Don’t miss ou
 t – bidding closes Thursday\, August 28\, 2025 at 7:00 PM. A
 ll items are located at 2773 W Henri de Tonti Blvd\, Tontito
 wn\, AR 72762.
URL:https://www.blockauction.com/auctions/detail/bw147009
SEQUENCE:1
END:VEVENT
END:VCALENDAR