BEGIN:VCALENDAR
VERSION:2.0
PRODID:-//ExpressionEngine Easy iCalendar plugin//NONSGML v2.0.1//EN
X-WR-TIMEZONE:America/Chicago
X-WR-CALNAME:Upcoming Auctions
BEGIN:VEVENT
UID:147304
DTSTAMP:20250827T174500
DTSTART:20250827T174500
DTEND:20250906T140000
SUMMARY:Estate of Eric & Betty Stull -  Bella Vista\, AR
LOCATION:21 Dunvegan Drive\, Bella Vista\, AR 72715\, US
DESCRIPTION:Bella Vista Online Only Auction – Ends Saturday\, September
  6th at 2pm Don’t miss this large online auction featuring
  Roseville\, McCoy\, Hull\, Hall China\, Fenton\, Jewel Tea\, Depr
 ession Glass\, Carnival Glass\, vintage watches\, jewelry\, appl
 iances\, furniture\, and home décor. From collectible pottery
  and glassware to quality furniture\, lighting\, kitchen items
 \, and outdoor décor\, this sale offers something for every c
 ollector and homeowner. Preview:  In person preview on Sat
 urday @ Noon\, Sale starts closing at 2pm Pickup: Saturday f
 rom 4–6pm & Sunday from Noon-3pm  Location:  21 Dunveg
 an Lane\, Bella Vista\, AR. Shipping available on all non-furn
 iture lots.
URL:https://www.blockauction.com/auctions/detail/bw147304
SEQUENCE:1
END:VEVENT
END:VCALENDAR