BEGIN:VCALENDAR
VERSION:2.0
PRODID:-//ExpressionEngine Easy iCalendar plugin//NONSGML v2.0.1//EN
X-WR-TIMEZONE:America/Chicago
X-WR-CALNAME:Upcoming Auctions
BEGIN:VEVENT
UID:147583
DTSTAMP:20250927T120000
DTSTART:20250927T120000
DTEND:20250927T130000
SUMMARY:Live Auction â€“ Real Estate & Personal Property  Estate of 
 Delbert Payne & Living Estate of Jo Jackson
LOCATION:21214 Floyd Moore Road\, Gentry\, AR 72734\, US
DESCRIPTION:Live Auction â€“ Real Estate & Personal Property (Live & Web
 cast bidding available for Real Estate Portion Only) Estate 
 of Delbert Payne & Living Estate of Jo Jackson Saturday\, Sep
 tember 27\, 2025 â€“ 10:00 a.m. 21214 Floyd Moore Road\, Gentr
 y\, AR Block Auction\, Callaway Auctions & Prime Real Estate a
 re proud to present a live\, on-site estate auction featuring
  24.93Â± acres with a 2\,528 sq. ft. home\, shops\, pasture\, an
 d pond\, plus a massive selection of vehicles\, tractors\, tool
 s\, antiques\, furniture\, collectibles\, and commercial restaur
 ant equipment from the well-known Suzy Qâ€™s. Highlights inc
 lude a 1964 Chevrolet Short Wide Truck\, Ford 3930 Tractor wi
 th loader\, ATVs & UTVs\, woodworking & shop tools\, quilting m
 achine\, household furniture\, Precious Moments collection\, an
 d restaurant equipment including a Taylor ice cream machine 
 (in very good condition)\, fryers\, prep tables\, sinks\, and mo
 re. Vehicles\, tractors\, tools\, household items\, and equipmen
 t start selling at 10:00 a.m.Â  Real estate sells at 12:00 p
 .m.Â sharp\, Donâ€™t miss this opportunity to buy at auction 
 just 2 miles from Gentry city limits! Call us to see today:Â
   Paul Colvin (479) 790-5513 or Connie Callaway (479) 640-83
 82 or Lucille Thomas (479) 601-5621
URL:https://www.blockauction.com/auctions/detail/bw147583
SEQUENCE:1
END:VEVENT
END:VCALENDAR