BEGIN:VCALENDAR
VERSION:2.0
PRODID:-//ExpressionEngine Easy iCalendar plugin//NONSGML v2.0.1//EN
X-WR-TIMEZONE:America/Chicago
X-WR-CALNAME:Upcoming Auctions
BEGIN:VEVENT
UID:147840
DTSTAMP:20250905T193600
DTSTART:20250905T193600
DTEND:20250911T190000
SUMMARY:Stull-Cannon Estate Auction
LOCATION:2773 W Henri de Tonti Blvd\, Tontitown\, AR 72762\, US
DESCRIPTION:Online Auction Ends Thursday\, Sept. 11 at 7PM! This auction 
 is packed with treasures including Charming Tails figurines\,
  Department 56 Christmas Village buildings and accessories\, 
 Pocket Dragons\, Barbie & Star Trek collectibles\, sports memo
 rabilia\, holiday décor\, china\, glassware\, artwork\, tools\, a
 nd more. Pickup: Tontitown\, AR (2pm-5pm Sept. 12 & 9am-Noo
 n Sept 13) Shipping: Available on all non-furniture items D
 on’t miss this chance to add unique collectibles\, holiday 
 items\, and vintage finds to your collection!
URL:https://www.blockauction.com/auctions/detail/bw147840
SEQUENCE:1
END:VEVENT
END:VCALENDAR