BEGIN:VCALENDAR
VERSION:2.0
PRODID:-//ExpressionEngine Easy iCalendar plugin//NONSGML v2.0.1//EN
X-WR-TIMEZONE:America/Chicago
X-WR-CALNAME:Upcoming Auctions
BEGIN:VEVENT
UID:148148
DTSTAMP:20250911T074600
DTSTART:20250911T074600
DTEND:20250916T190000
SUMMARY:Martinez Estate - Rogers\, AR
LOCATION:3402 Margaret Place\, Rogers\, AR 72758\, US
DESCRIPTION:Online Only Auction – Ends Tuesday\, September 16\, 2025 @ 7
 :00 PM Pickup: Wednesday & Thursday\, 2:00 – 6:00 PM.  Pic
 kup for lots that in the 100 lot numbers will be at #9 Sunar
 t Ln. Bella Vista Ar.  All other lots will pickup 3402 Marg
 aret Pl. Rogers Ar. Featured Items: Wooden dressers\, hutches
 \, cabinets & console tables Dining tables with matching chai
 rs\, quilt racks & side tables Leather reclining sofas\, loves
 eats & armchairs Handmade patchwork quilts & crochet doilies
  Stained glass & themed lamps\, decorative lanterns & figurin
 es Porcelain dolls\, collectible racing memorabilia & Partyli
 te ceramic houses Haier refrigerator\, Kenmore upright freeze
 r\, Hisense 55” TV\, Frigidaire ice maker Rustic & modern co
 ffee tables\, entertainment centers\, benches & rockers Wrough
 t iron patio set\, gas grill\, swings\, lawn ornaments & garden
  décor Cub Cadet self-propelled mower\, greenhouse\, wheelbar
 row & tools Kitchenware\, dinnerware\, cookware & household bu
 ndles Sewing\, craft & holiday décor collections Books\, puzz
 les\, toys & vintage collectibles Wide variety of home\, garde
 n\, furniture & collectibles – bidding closes Tuesday\, Sept
 ember 16th at 7:00 PM!
URL:https://www.blockauction.com/auctions/detail/bw148148
SEQUENCE:1
END:VEVENT
END:VCALENDAR