BEGIN:VCALENDAR
VERSION:2.0
PRODID:-//ExpressionEngine Easy iCalendar plugin//NONSGML v2.0.1//EN
X-WR-TIMEZONE:America/Chicago
X-WR-CALNAME:Upcoming Auctions
BEGIN:VEVENT
UID:148301
DTSTAMP:20250913T145100
DTSTART:20250913T145100
DTEND:20250920T120000
SUMMARY:Estate of Eric & Betty Stull #2
LOCATION:21 Dunvegan Lane\, Bella Vista\, AR 72715\, US
DESCRIPTION:Auction Preview:  In Person Inspection from 10am-11am\, Satu
 rday\, September 20th.   Auction End Date:  Saturday\, Sept
 ember 20th at Noon Auction Pick Up Date:  Saturday\, Septemb
 er 20th directly following the sale until 6pm Alternative Au
 ction Pick Up Date:  Sunday\, September 21st from Noon-4:00
 pm Location:  21 Dunvegan Drive\, Bella Vista\, AR   Online
  only estate auction ending Saturday\, September 20 at 12:00 
 PM in Bella Vista\, AR. Featuring crystal\, cut glass\, pottery
 \, china\, artwork\, collectibles\, furniture\, décor\, and house
 hold essentials from the Stull estate. Pick up will be Satur
 day\, September 20 after auction ends until 6 PM and Monday\, 
 September 22 from 10 AM–12 Noon at 21 Dunvegan Lane\, Bella
  Vista.
URL:https://www.blockauction.com/auctions/detail/bw148301
SEQUENCE:1
END:VEVENT
END:VCALENDAR