BEGIN:VCALENDAR
VERSION:2.0
PRODID:-//ExpressionEngine Easy iCalendar plugin//NONSGML v2.0.1//EN
X-WR-TIMEZONE:America/Chicago
X-WR-CALNAME:Upcoming Auctions
BEGIN:VEVENT
UID:148536
DTSTAMP:20250929T120000
DTSTART:20250929T120000
DTEND:20250929T130000
SUMMARY:Pesto Cafe Restaurant Equipment - Live Auction
LOCATION:1830 N College Ave\, Fayetteville\, AR 72704\, US
DESCRIPTION:Live Restaurant Equipment at the former Pesto Cafe in Fayett
 eville\, AR.  This sale features restaurant equipment includ
 ing Gas Range & Oven\, Coolers\, Pizza Oven\, Stainless Steel P
 rep Tables\, Barstools\, Beer Taps and more.  Don't miss out 
 on this chance to bid Live\, In Person at 1830 N. College Ave
 .\, Fayetteville\, AR Monday\, September 29th at Noon.  
URL:https://www.blockauction.com/auctions/detail/bw148536
SEQUENCE:1
END:VEVENT
END:VCALENDAR