BEGIN:VCALENDAR
VERSION:2.0
PRODID:-//ExpressionEngine Easy iCalendar plugin//NONSGML v2.0.1//EN
X-WR-TIMEZONE:America/Chicago
X-WR-CALNAME:Upcoming Auctions
BEGIN:VEVENT
UID:148619
DTSTAMP:20250918T094500
DTSTART:20250918T094500
DTEND:20250930T190000
SUMMARY:Mixon Estate Auction
LOCATION:12407  W HWY 62  \, Farmington\, AR 72730\, US
DESCRIPTION:Mixon Estate Online Auction – Farmington\, AR Bidding ends 
 Tuesday\, Sept 30th at 7PM Pick up: Oct 1–2\, 12-6pm The Mix
 on Estate is packed with treasures! Sewing machines (Juki\, P
 faff\, Singer)\, Victorian furniture\, Precious Moments\, Bose &
  Pioneer electronics\, Nintendo games\, tools\, holiday décor\,
  jewelry\, garden statuary\, and so much more! Don’t miss th
 is incredible lifetime collection — thousands of items sel
 ling to the highest bidder!
URL:https://www.blockauction.com/auctions/detail/bw148619
SEQUENCE:1
END:VEVENT
END:VCALENDAR