BEGIN:VCALENDAR
VERSION:2.0
PRODID:-//ExpressionEngine Easy iCalendar plugin//NONSGML v2.0.1//EN
X-WR-TIMEZONE:America/Chicago
X-WR-CALNAME:Upcoming Auctions
BEGIN:VEVENT
UID:158268
DTSTAMP:20260309T120000
DTSTART:20260309T120000
DTEND:20260425T130000
SUMMARY:1510 Circle Dr. Real Estate Live & Webcast Auction
LOCATION:1510 Circle Dr.\, Springdale\, AR 72764\, US
DESCRIPTION:4BR / 3.5BA  plus Office/Bedroom. 3\,606 sq ft home on a ½-
 acre lot in Springdale featuring a beautifully updated kitch
 en with granite and soft-close cabinets\, two fireplaces\, new
  roof (2024) and HVAC (2021). Selling at Live & Webcast Auct
 ion April 25 at 1 PM.
URL:https://www.blockauction.com/auctions/detail/bw158268
SEQUENCE:1
END:VEVENT
END:VCALENDAR